BEGIN:VCALENDAR
VERSION:2.0
PRODID:-//ChamberMaster//Event Calendar 2.0//EN
METHOD:PUBLISH
X-PUBLISHED-TTL:P3D
REFRESH-INTERVAL:P3D
CALSCALE:GREGORIAN
BEGIN:VEVENT
DTSTART:20190918T170000Z
DTEND:20190918T180000Z
X-MICROSOFT-CDO-ALLDAYEVENT:FALSE
SUMMARY:Membership Meeting
DESCRIPTION:Monthly Membership Meeting featuring Non-Profit Members\n\n\n\nCome learn about our non-profit Chamber members\n\nHow can you can spread awareness\, volunteer\, and make a difference?
X-ALT-DESC;FMTTYPE=text/html:<div style="text-align: center\;"><strong>Monthly Membership Meeting featuring Non-Profit Members</strong><br />\n<br />\nCome learn about our non-profit Chamber members<br />\nHow can you can spread awareness\, volunteer\, and make a difference?</div>\n
LOCATION:McKenna Crossing 13810 Shepherd's Path NW Prior Lake 55379
UID:e.899.7047
SEQUENCE:3
DTSTAMP:20260421T165454Z
URL:https://business.priorlakechamber.com/events/details/membership-meeting-09-18-2019-7047
END:VEVENT

END:VCALENDAR
